BEGIN:VCALENDAR
VERSION:2.0
PRODID:-//XTND - ECPv6.15.20//NONSGML v1.0//EN
CALSCALE:GREGORIAN
METHOD:PUBLISH
X-ORIGINAL-URL:https://xtnd.org.uk
X-WR-CALDESC:Events for XTND
REFRESH-INTERVAL;VALUE=DURATION:PT1H
X-Robots-Tag:noindex
X-PUBLISHED-TTL:PT1H
BEGIN:VTIMEZONE
TZID:UTC
BEGIN:STANDARD
TZOFFSETFROM:+0000
TZOFFSETTO:+0000
TZNAME:UTC
DTSTART:20250101T000000
END:STANDARD
END:VTIMEZONE
BEGIN:VEVENT
DTSTART;VALUE=DATE:20260423
DTEND;VALUE=DATE:20280429
DTSTAMP:20260424T152855
CREATED:20260423T141654Z
LAST-MODIFIED:20260423T145742Z
UID:495-1776902400-1840579199@xtnd.org.uk
SUMMARY:Parent Cooking
DESCRIPTION:Tuesdays\, 1.30pm – 3pm (term-time only) · Free Community Kitchen\, Bournville Primary School \nA friendly weekly cooking session designed with busy family life in mind. Each week you’ll try something new\, from quick midweek meals to budget-friendly family favourites\, picking up practical skills and fresh ideas along the way. It’s as much about the chat and cuppa as it is the cooking\, so whether you’re a confident cook or just starting out\, you’ll find a relaxed and supportive group waiting. All ingredients and equipment provided.
URL:https://xtnd.org.uk/event/parent-cooking/
CATEGORIES:Recurring
ATTACH;FMTTYPE=image/jpeg:https://xtnd.org.uk/wp-content/uploads/2026/04/sweet-life-w8wg19bRKDY-unsplash-scaled.jpg
END:VEVENT
BEGIN:VEVENT
DTSTART;VALUE=DATE:20260428
DTEND;VALUE=DATE:20280429
DTSTAMP:20260424T152855
CREATED:20260423T140233Z
LAST-MODIFIED:20260423T145527Z
UID:490-1777334400-1840579199@xtnd.org.uk
SUMMARY:Bournville Tots
DESCRIPTION:Tuesdays\, 9.30am – 11am (term-time only) · Free Healthy Living Centre \nA warm\, welcoming weekly session for parents\, carers and their under-5s. Come along for songs\, sensory play and a good chinwag over a cuppa while the little ones explore in a safe\, friendly space. It’s a lovely way to meet other local families\, swap notes on the ups and downs of parenting\, and give the children a chance to build confidence around new faces. No need to book — just turn up and join in.
URL:https://xtnd.org.uk/event/bournville-tots/
CATEGORIES:Recurring
ATTACH;FMTTYPE=image/jpeg:https://xtnd.org.uk/wp-content/uploads/2026/04/PPAUK_Bournville_Tots_030326_012-scaled.jpg
END:VEVENT
BEGIN:VEVENT
DTSTART;VALUE=DATE:20260429
DTEND;VALUE=DATE:20280430
DTSTAMP:20260424T152855
CREATED:20260423T141757Z
LAST-MODIFIED:20260423T145703Z
UID:496-1777420800-1840665599@xtnd.org.uk
SUMMARY:Breakfast Stay and Play
DESCRIPTION:Wednesdays\, 9am – 10.30am (term-time only) · Free Little Waves Nursery \nStart your Wednesday the easy way with a free breakfast and a proper play session for the under-5s. The little ones can tuck into toast and explore a range of play activities while the grown-ups enjoy a hot drink and a catch-up with other parents and carers. It’s a gentle\, no-pressure start to the day and a great chance to build connections with other local families. Everyone welcome.
URL:https://xtnd.org.uk/event/breakfast-stay-and-play/
CATEGORIES:Recurring
ATTACH;FMTTYPE=image/jpeg:https://xtnd.org.uk/wp-content/uploads/2026/04/PPAUK_XTND_Breakfast_Club_040326_055-scaled.jpg
END:VEVENT
BEGIN:VEVENT
DTSTART;VALUE=DATE:20260429
DTEND;VALUE=DATE:20280430
DTSTAMP:20260424T152855
CREATED:20260423T144225Z
LAST-MODIFIED:20260423T145607Z
UID:499-1777420800-1840665599@xtnd.org.uk
SUMMARY:Lunch Club
DESCRIPTION:Wednesdays\, 11.45am – 12.25pm (term-time only) · Free XTND Hut\, Bournville Primary School \nA warm and welcoming lunchtime drop-in at the XTND Hut\, right on the Bournville Primary School site. Pop in for a bite to eat\, a friendly chat and a bit of midweek headspace with the XTND team and other parents from the school community. Whether you want company\, a listening ear or just somewhere to pause for half an hour\, you’ll find a relaxed space and a friendly welcome.
URL:https://xtnd.org.uk/event/lunch-club/
CATEGORIES:Recurring
ATTACH;FMTTYPE=image/jpeg:https://xtnd.org.uk/wp-content/uploads/2026/04/PPAUK_XTND_Lunch_Club_040326_018-scaled.jpg
END:VEVENT
BEGIN:VEVENT
DTSTART;TZID=UTC:20260630T100000
DTEND;TZID=UTC:20260630T120000
DTSTAMP:20260424T152855
CREATED:20260402T153709Z
LAST-MODIFIED:20260402T153904Z
UID:459-1782813600-1782820800@xtnd.org.uk
SUMMARY:Littles Clubhouse
DESCRIPTION:Tots on Tour is heading somewhere new! Join us at St Georges Community Centre for Littles Clubhouse\, a relaxed and friendly playgroup where families can explore a brand new space together. Come along anytime from 10am\, stay as long as you like\, and let the little ones lead the way. £3 per family.
URL:https://xtnd.org.uk/event/littles-clubhouse/
CATEGORIES:Toddler Groups
ATTACH;FMTTYPE=image/jpeg:https://xtnd.org.uk/wp-content/uploads/2026/04/bbc-creative-1w20Cysy1cg-unsplash-scaled.jpg
END:VEVENT
BEGIN:VEVENT
DTSTART;TZID=UTC:20261013T092000
DTEND;TZID=UTC:20261013T113000
DTSTAMP:20260424T152855
CREATED:20260402T154812Z
LAST-MODIFIED:20260402T154855Z
UID:464-1791883200-1791891000@xtnd.org.uk
SUMMARY:Little Explorers Playcafe
DESCRIPTION:Grab a coffee and let the kids run free! Tots on Tour is taking over Olea for a morning of play and exploration. Little Explorers Playcafé is a relaxed session where families can enjoy a welcoming café setting while children discover a new space to play. £3 per family. Sessions run from 9.20am to 11.30am.
URL:https://xtnd.org.uk/event/little-explorers-playcafe/
CATEGORIES:Toddler Groups
ATTACH;FMTTYPE=image/jpeg:https://xtnd.org.uk/wp-content/uploads/2026/04/yunus-tug-sxAfPtr7cXs-unsplash-scaled.jpg
END:VEVENT
BEGIN:VEVENT
DTSTART;TZID=UTC:20261020T151500
DTEND;TZID=UTC:20261020T163000
DTSTAMP:20260424T152855
CREATED:20260402T131110Z
LAST-MODIFIED:20260402T152759Z
UID:451-1792509300-1792513800@xtnd.org.uk
SUMMARY:Pumpkin Carving
DESCRIPTION:Get into the Halloween spirit with a family pumpkin carving session at Bournville School! Join us straight after school from 3.15pm to 4.30pm for a hands-on seasonal activity that the whole family can get stuck into together. Free to attend.
URL:https://xtnd.org.uk/event/pumpkin-carving/
CATEGORIES:Toddler Groups
ATTACH;FMTTYPE=image/jpeg:https://xtnd.org.uk/wp-content/uploads/2026/04/kateryna-hliznitsova-LHzJ_7-mpQM-unsplash-scaled.jpg
END:VEVENT
BEGIN:VEVENT
DTSTART;TZID=UTC:20261208T100000
DTEND;TZID=UTC:20261208T120000
DTSTAMP:20260424T152855
CREATED:20260402T154145Z
LAST-MODIFIED:20260402T155343Z
UID:453-1796724000-1796731200@xtnd.org.uk
SUMMARY:Christmas Crafts
DESCRIPTION:Get festive with the family at our Christmas Crafts session at Bournville School! From 3.15pm to 4.30pm\, children and adults can come together to create seasonal crafts and enjoy a little holiday magic. A lovely way to kick off the Christmas celebrations. Free to attend.
URL:https://xtnd.org.uk/event/christmas-crafts/
CATEGORIES:Holiday Activities,Toddler Groups
ATTACH;FMTTYPE=image/jpeg:https://xtnd.org.uk/wp-content/uploads/2026/04/getty-images-KG7HF3VbF9I-unsplash-scaled.jpg
END:VEVENT
END:VCALENDAR