BEGIN:VCALENDAR
VERSION:2.0
PRODID:-//XTND - ECPv6.15.20//NONSGML v1.0//EN
CALSCALE:GREGORIAN
METHOD:PUBLISH
X-WR-CALNAME:XTND
X-ORIGINAL-URL:https://xtnd.org.uk
X-WR-CALDESC:Events for XTND
REFRESH-INTERVAL;VALUE=DURATION:PT1H
X-Robots-Tag:noindex
X-PUBLISHED-TTL:PT1H
BEGIN:VTIMEZONE
TZID:UTC
BEGIN:STANDARD
TZOFFSETFROM:+0000
TZOFFSETTO:+0000
TZNAME:UTC
DTSTART:20250101T000000
END:STANDARD
END:VTIMEZONE
BEGIN:VEVENT
DTSTART;TZID=UTC:20260428T100000
DTEND;TZID=UTC:20260428T170000
DTSTAMP:20260422T165102
CREATED:20260402T153355Z
LAST-MODIFIED:20260402T153933Z
UID:457-1777370400-1777395600@xtnd.org.uk
SUMMARY:Court Farm
DESCRIPTION:Pack your bags for a brilliant day out with Tots on Tour at Court Farm! Head to the countryside for a fun-filled farm visit where little ones can explore\, meet animals\, and enjoy outdoor play. Gates open at 10am and you’re welcome to stay and make the most of the day until 5pm. Entry is £3 per adult.
URL:https://xtnd.org.uk/event/court-farm/
CATEGORIES:Holiday Activities,Toddler Groups
ATTACH;FMTTYPE=image/jpeg:https://xtnd.org.uk/wp-content/uploads/2026/04/annie-spratt-JMjNnQ2xFoY-unsplash-scaled.jpg
END:VEVENT
END:VCALENDAR