BEGIN:VCALENDAR
VERSION:2.0
PRODID:-//XTND - ECPv6.15.20//NONSGML v1.0//EN
CALSCALE:GREGORIAN
METHOD:PUBLISH
X-WR-CALNAME:XTND
X-ORIGINAL-URL:https://xtnd.org.uk
X-WR-CALDESC:Events for XTND
REFRESH-INTERVAL;VALUE=DURATION:PT1H
X-Robots-Tag:noindex
X-PUBLISHED-TTL:PT1H
BEGIN:VTIMEZONE
TZID:UTC
BEGIN:STANDARD
TZOFFSETFROM:+0000
TZOFFSETTO:+0000
TZNAME:UTC
DTSTART:20250101T000000
END:STANDARD
END:VTIMEZONE
BEGIN:VEVENT
DTSTART;TZID=UTC:20261020T151500
DTEND;TZID=UTC:20261020T163000
DTSTAMP:20260422T193724
CREATED:20260402T131110Z
LAST-MODIFIED:20260402T152759Z
UID:451-1792509300-1792513800@xtnd.org.uk
SUMMARY:Pumpkin Carving
DESCRIPTION:Get into the Halloween spirit with a family pumpkin carving session at Bournville School! Join us straight after school from 3.15pm to 4.30pm for a hands-on seasonal activity that the whole family can get stuck into together. Free to attend.
URL:https://xtnd.org.uk/event/pumpkin-carving/
CATEGORIES:Toddler Groups
ATTACH;FMTTYPE=image/jpeg:https://xtnd.org.uk/wp-content/uploads/2026/04/kateryna-hliznitsova-LHzJ_7-mpQM-unsplash-scaled.jpg
END:VEVENT
END:VCALENDAR