BEGIN:VCALENDAR
VERSION:2.0
PRODID:-//XTND - ECPv6.15.20//NONSGML v1.0//EN
CALSCALE:GREGORIAN
METHOD:PUBLISH
X-WR-CALNAME:XTND
X-ORIGINAL-URL:https://xtnd.org.uk
X-WR-CALDESC:Events for XTND
REFRESH-INTERVAL;VALUE=DURATION:PT1H
X-Robots-Tag:noindex
X-PUBLISHED-TTL:PT1H
BEGIN:VTIMEZONE
TZID:UTC
BEGIN:STANDARD
TZOFFSETFROM:+0000
TZOFFSETTO:+0000
TZNAME:UTC
DTSTART:20250101T000000
END:STANDARD
END:VTIMEZONE
BEGIN:VEVENT
DTSTART;TZID=UTC:20260421T093000
DTEND;TZID=UTC:20260421T110000
DTSTAMP:20260424T132052
CREATED:20260402T153146Z
LAST-MODIFIED:20260402T153838Z
UID:455-1776763800-1776769200@xtnd.org.uk
SUMMARY:Drama Playtime
DESCRIPTION:Join us for a fun and imaginative drama workshop designed for little ones aged 0–4! Children and their parents or carers are invited to explore storytelling\, movement\, and play together in a welcoming\, creative space. Sessions run from 9.30am to 10.30am\, with Tots continuing through to 11am. Free to attend.v
URL:https://xtnd.org.uk/event/drama-playtime/
CATEGORIES:Toddler Groups
ATTACH;FMTTYPE=image/jpeg:https://xtnd.org.uk/wp-content/uploads/2026/04/daria-trofimova-XH3gIKBSyTk-unsplash-scaled.jpg
END:VEVENT
END:VCALENDAR